Package: slalom Version: 1.31.0 Command: /home/biocbuild/R/R/bin/R CMD INSTALL slalom StartedAt: 2025-10-09 21:24:28 -0000 (Thu, 09 Oct 2025) EndedAt: 2025-10-09 21:25:43 -0000 (Thu, 09 Oct 2025) EllapsedTime: 74.8 seconds RetCode: 0 Status: OK