Package: slalom Version: 1.31.0 Command: /home/biocbuild/R/R/bin/R CMD check --install=check:slalom.install-out.txt --library=/home/biocbuild/R/R/site-library --no-vignettes --timings slalom_1.31.0.tar.gz StartedAt: 2025-10-10 13:46:03 -0000 (Fri, 10 Oct 2025) EndedAt: 2025-10-10 13:53:20 -0000 (Fri, 10 Oct 2025) EllapsedTime: 436.9 seconds RetCode: 1 Status: ERROR CheckDir: slalom.Rcheck Warnings: NA