Package: slalom Version: 1.31.0 Command: /home/biocbuild/R/R/bin/R CMD build --keep-empty-dirs --no-resave-data slalom StartedAt: 2025-10-10 04:16:17 -0000 (Fri, 10 Oct 2025) EndedAt: 2025-10-10 04:18:15 -0000 (Fri, 10 Oct 2025) EllapsedTime: 118.1 seconds RetCode: 0 Status: OK PackageFile: slalom_1.31.0.tar.gz PackageFileSize: 17.47 MiB