Package: slalom Version: 1.31.0 Command: rm -rf slalom.buildbin-libdir && mkdir slalom.buildbin-libdir && F:\biocbuild\bbs-3.22-bioc\R\bin\R.exe CMD INSTALL --build --library=slalom.buildbin-libdir slalom_1.31.0.tar.gz StartedAt: 2025-08-15 11:21:20 -0400 (Fri, 15 Aug 2025) EndedAt: 2025-08-15 11:22:28 -0400 (Fri, 15 Aug 2025) EllapsedTime: 67.2 seconds RetCode: 0 Status: OK PackageFile: slalom_1.31.0.zip PackageFileSize: 18.44 MiB