Package: slalom Version: 1.31.0 Command: /Library/Frameworks/R.framework/Resources/bin/R CMD INSTALL slalom StartedAt: 2025-10-10 15:31:07 -0400 (Fri, 10 Oct 2025) EndedAt: 2025-10-10 15:31:19 -0400 (Fri, 10 Oct 2025) EllapsedTime: 11.8 seconds RetCode: 1 Status: ERROR