Package: slalom Version: 1.31.0 Command: /Library/Frameworks/R.framework/Resources/bin/R CMD INSTALL slalom StartedAt: 2025-10-10 15:14:39 -0400 (Fri, 10 Oct 2025) EndedAt: 2025-10-10 15:14:42 -0400 (Fri, 10 Oct 2025) EllapsedTime: 3.2 seconds RetCode: 1 Status: ERROR