Package: slalom Version: 1.31.0 Command: /Library/Frameworks/R.framework/Resources/bin/R CMD build --keep-empty-dirs --no-resave-data slalom StartedAt: 2025-10-10 17:45:32 -0400 (Fri, 10 Oct 2025) EndedAt: 2025-10-10 17:45:36 -0400 (Fri, 10 Oct 2025) EllapsedTime: 4.1 seconds RetCode: 1 Status: ERROR PackageFile: None PackageFileSize: NA