Package: skewr Version: 1.41.0 Command: /home/biocbuild/R/R/bin/R CMD build --keep-empty-dirs --no-resave-data skewr StartedAt: 2025-10-03 03:17:59 -0000 (Fri, 03 Oct 2025) EndedAt: 2025-10-03 03:20:35 -0000 (Fri, 03 Oct 2025) EllapsedTime: 156.1 seconds RetCode: 0 Status: OK PackageFile: skewr_1.41.0.tar.gz PackageFileSize: 530.7 KiB