Package: skewr Version: 1.41.0 Command: rm -rf skewr.buildbin-libdir && mkdir skewr.buildbin-libdir && F:\biocbuild\bbs-3.22-bioc\R\bin\R.exe CMD INSTALL --build --library=skewr.buildbin-libdir skewr_1.41.0.tar.gz StartedAt: 2025-07-02 09:56:41 -0400 (Wed, 02 Jul 2025) EndedAt: 2025-07-02 09:58:06 -0400 (Wed, 02 Jul 2025) EllapsedTime: 85.0 seconds RetCode: 0 Status: OK PackageFile: skewr_1.41.0.zip PackageFileSize: 394.2 KiB