Package: skewr Version: 1.41.0 Command: /Library/Frameworks/R.framework/Resources/bin/R CMD INSTALL skewr StartedAt: 2025-07-20 16:00:31 -0400 (Sun, 20 Jul 2025) EndedAt: 2025-07-20 16:01:09 -0400 (Sun, 20 Jul 2025) EllapsedTime: 38.0 seconds RetCode: 0 Status: OK