Package: sizepower Version: 1.79.0 Command: /home/biocbuild/R/R/bin/R CMD INSTALL sizepower StartedAt: 2025-07-24 20:58:32 -0000 (Thu, 24 Jul 2025) EndedAt: 2025-07-24 20:58:41 -0000 (Thu, 24 Jul 2025) EllapsedTime: 9.2 seconds RetCode: 0 Status: OK