Package: sizepower Version: 1.79.0 Command: /home/biocbuild/bbs-3.22-bioc/R/bin/R CMD INSTALL sizepower StartedAt: 2025-07-01 15:02:08 -0400 (Tue, 01 Jul 2025) EndedAt: 2025-07-01 15:02:13 -0400 (Tue, 01 Jul 2025) EllapsedTime: 4.5 seconds RetCode: 0 Status: OK