Package: sizepower Version: 1.79.0 Command: /home/biocbuild/bbs-3.22-bioc/R/bin/R CMD check --install=check:sizepower.install-out.txt --library=/home/biocbuild/bbs-3.22-bioc/R/site-library --timings sizepower_1.79.0.tar.gz StartedAt: 2025-07-02 02:37:55 -0400 (Wed, 02 Jul 2025) EndedAt: 2025-07-02 02:38:11 -0400 (Wed, 02 Jul 2025) EllapsedTime: 16.0 seconds RetCode: 0 Status: OK CheckDir: sizepower.Rcheck Warnings: 0