Package: sizepower Version: 1.79.0 Command: /home/biocbuild/bbs-3.22-bioc/R/bin/R CMD build --keep-empty-dirs --no-resave-data --md5 sizepower StartedAt: 2025-07-01 19:15:54 -0400 (Tue, 01 Jul 2025) EndedAt: 2025-07-01 19:15:59 -0400 (Tue, 01 Jul 2025) EllapsedTime: 5.0 seconds RetCode: 0 Status: OK PackageFile: sizepower_1.79.0.tar.gz PackageFileSize: 296.2 KiB