Package: sizepower Version: 1.79.0 Command: rm -rf sizepower.buildbin-libdir && mkdir sizepower.buildbin-libdir && /Users/biocbuild/BBS/utils/build-universal.sh sizepower_1.79.0.tar.gz /Library/Frameworks/R.framework/Resources/bin/R sizepower.buildbin-libdir StartedAt: 2025-07-20 22:42:47 -0400 (Sun, 20 Jul 2025) EndedAt: 2025-07-20 22:42:50 -0400 (Sun, 20 Jul 2025) EllapsedTime: 2.0 seconds RetCode: 0 Status: OK PackageFile: sizepower_1.79.0.tgz PackageFileSize: 315.2 KiB