Package: sitePath Version: 1.25.0 Command: F:\biocbuild\bbs-3.22-bioc\R\bin\R.exe CMD INSTALL sitePath StartedAt: 2025-08-14 15:32:20 -0400 (Thu, 14 Aug 2025) EndedAt: 2025-08-14 15:33:31 -0400 (Thu, 14 Aug 2025) EllapsedTime: 70.8 seconds RetCode: 0 Status: OK