Package: sitePath Version: 1.25.0 Command: rm -rf sitePath.buildbin-libdir && mkdir sitePath.buildbin-libdir && F:\biocbuild\bbs-3.22-bioc\R\bin\R.exe CMD INSTALL --build --library=sitePath.buildbin-libdir sitePath_1.25.0.tar.gz StartedAt: 2025-08-15 11:21:06 -0400 (Fri, 15 Aug 2025) EndedAt: 2025-08-15 11:22:19 -0400 (Fri, 15 Aug 2025) EllapsedTime: 73.7 seconds RetCode: 0 Status: OK PackageFile: sitePath_1.25.0.zip PackageFileSize: 1.297 MiB