Package: sitePath Version: 1.25.0 Command: /home/biocbuild/bbs-3.22-bioc/R/bin/R CMD build --keep-empty-dirs --no-resave-data --md5 sitePath StartedAt: 2025-07-14 19:16:56 -0400 (Mon, 14 Jul 2025) EndedAt: 2025-07-14 19:17:54 -0400 (Mon, 14 Jul 2025) EllapsedTime: 58.1 seconds RetCode: 0 Status: OK PackageFile: sitePath_1.25.0.tar.gz PackageFileSize: 1.217 MiB