Package: sitePath Version: 1.25.0 Command: /Library/Frameworks/R.framework/Resources/bin/R CMD INSTALL sitePath StartedAt: 2025-07-14 15:21:29 -0400 (Mon, 14 Jul 2025) EndedAt: 2025-07-14 15:22:04 -0400 (Mon, 14 Jul 2025) EllapsedTime: 34.2 seconds RetCode: 0 Status: OK