Package: sitePath Version: 1.25.0 Command: /Library/Frameworks/R.framework/Resources/bin/R CMD check --install=check:sitePath.install-out.txt --library=/Library/Frameworks/R.framework/Resources/library --no-vignettes --timings sitePath_1.25.0.tar.gz StartedAt: 2025-07-14 23:42:42 -0400 (Mon, 14 Jul 2025) EndedAt: 2025-07-14 23:51:53 -0400 (Mon, 14 Jul 2025) EllapsedTime: 551.3 seconds RetCode: 0 Status: OK CheckDir: sitePath.Rcheck Warnings: 0