Package: sitePath Version: 1.25.0 Command: /Library/Frameworks/R.framework/Resources/bin/R CMD build --keep-empty-dirs --no-resave-data sitePath StartedAt: 2025-07-14 18:36:03 -0400 (Mon, 14 Jul 2025) EndedAt: 2025-07-14 18:37:01 -0400 (Mon, 14 Jul 2025) EllapsedTime: 58.2 seconds RetCode: 0 Status: OK PackageFile: sitePath_1.25.0.tar.gz PackageFileSize: 1.244 MiB