Package: sitePath Version: 1.25.0 Command: /Library/Frameworks/R.framework/Resources/bin/R CMD build --keep-empty-dirs --no-resave-data sitePath StartedAt: 2025-07-16 17:36:12 -0400 (Wed, 16 Jul 2025) EndedAt: 2025-07-16 17:36:33 -0400 (Wed, 16 Jul 2025) EllapsedTime: 21.3 seconds RetCode: 0 Status: OK PackageFile: sitePath_1.25.0.tar.gz PackageFileSize: 1.244 MiB