Package: sitadela Version: 1.17.0 Command: F:\biocbuild\bbs-3.22-bioc\R\bin\R.exe CMD check --no-multiarch --install=check:sitadela.install-out.txt --library=F:\biocbuild\bbs-3.22-bioc\R\library --no-vignettes --timings sitadela_1.17.0.tar.gz StartedAt: 2025-07-19 06:52:25 -0400 (Sat, 19 Jul 2025) EndedAt: 2025-07-19 06:58:51 -0400 (Sat, 19 Jul 2025) EllapsedTime: 385.8 seconds RetCode: 0 Status: OK CheckDir: sitadela.Rcheck Warnings: 0