Package: sitadela Version: 1.17.0 Command: /Library/Frameworks/R.framework/Resources/bin/R CMD INSTALL sitadela StartedAt: 2025-07-20 15:47:54 -0400 (Sun, 20 Jul 2025) EndedAt: 2025-07-20 15:48:46 -0400 (Sun, 20 Jul 2025) EllapsedTime: 52.3 seconds RetCode: 0 Status: OK