Package: sitadela Version: 1.17.0 Command: /Library/Frameworks/R.framework/Resources/bin/R CMD build --keep-empty-dirs --no-resave-data sitadela StartedAt: 2025-07-20 18:36:36 -0400 (Sun, 20 Jul 2025) EndedAt: 2025-07-20 18:39:22 -0400 (Sun, 20 Jul 2025) EllapsedTime: 165.6 seconds RetCode: 0 Status: OK PackageFile: sitadela_1.17.0.tar.gz PackageFileSize: 485 KiB