Package: sitadela Version: 1.17.0 Command: rm -rf sitadela.buildbin-libdir && mkdir sitadela.buildbin-libdir && /Users/biocbuild/BBS/utils/build-universal.sh sitadela_1.17.0.tar.gz /Library/Frameworks/R.framework/Resources/bin/R sitadela.buildbin-libdir StartedAt: 2025-07-21 01:27:10 -0400 (Mon, 21 Jul 2025) EndedAt: 2025-07-21 01:28:05 -0400 (Mon, 21 Jul 2025) EllapsedTime: 55.4 seconds RetCode: 0 Status: OK PackageFile: sitadela_1.17.0.tgz PackageFileSize: 715 KiB