Package: sitadela Version: 1.17.0 Command: /Library/Frameworks/R.framework/Resources/bin/R CMD check --install=check:sitadela.install-out.txt --library=/Library/Frameworks/R.framework/Resources/library --no-vignettes --timings sitadela_1.17.0.tar.gz StartedAt: 2025-07-22 21:33:11 -0400 (Tue, 22 Jul 2025) EndedAt: 2025-07-22 21:35:40 -0400 (Tue, 22 Jul 2025) EllapsedTime: 148.7 seconds RetCode: 0 Status: OK CheckDir: sitadela.Rcheck Warnings: 0