Package: sitadela Version: 1.17.0 Command: rm -rf sitadela.buildbin-libdir && mkdir sitadela.buildbin-libdir && /Users/biocbuild/BBS/utils/build-universal.sh sitadela_1.17.0.tar.gz /Library/Frameworks/R.framework/Resources/bin/R sitadela.buildbin-libdir StartedAt: 2025-07-22 22:41:09 -0400 (Tue, 22 Jul 2025) EndedAt: 2025-07-22 22:41:26 -0400 (Tue, 22 Jul 2025) EllapsedTime: 17.3 seconds RetCode: 0 Status: OK PackageFile: sitadela_1.17.0.tgz PackageFileSize: 715.5 KiB