Package: singleCellTK Version: 2.19.1 Command: set _R_CHECK_FORCE_SUGGESTS_=0&& F:\biocbuild\bbs-3.22-bioc\R\bin\R.exe CMD check --no-multiarch --install=check:singleCellTK.install-out.txt --library=F:\biocbuild\bbs-3.22-bioc\R\library --no-vignettes --timings singleCellTK_2.19.1.tar.gz StartedAt: 2025-07-22 06:49:59 -0400 (Tue, 22 Jul 2025) EndedAt: 2025-07-22 07:10:59 -0400 (Tue, 22 Jul 2025) EllapsedTime: 1260.1 seconds RetCode: 0 Status: OK CheckDir: singleCellTK.Rcheck Warnings: 0