Package: simpleSeg Version: 1.11.1 Command: /Library/Frameworks/R.framework/Resources/bin/R CMD INSTALL simpleSeg StartedAt: 2025-10-05 15:24:12 -0400 (Sun, 05 Oct 2025) EndedAt: 2025-10-05 15:25:17 -0400 (Sun, 05 Oct 2025) EllapsedTime: 65.0 seconds RetCode: 0 Status: OK