Package: simpleSeg Version: 1.11.1 Command: /Library/Frameworks/R.framework/Resources/bin/R CMD build --keep-empty-dirs --no-resave-data simpleSeg StartedAt: 2025-10-05 19:01:26 -0400 (Sun, 05 Oct 2025) EndedAt: 2025-10-05 19:04:32 -0400 (Sun, 05 Oct 2025) EllapsedTime: 186.3 seconds RetCode: 0 Status: OK PackageFile: simpleSeg_1.11.1.tar.gz PackageFileSize: 4.764 MiB