Package: simpleSeg Version: 1.11.1 Command: /Library/Frameworks/R.framework/Resources/bin/R CMD check --install=check:simpleSeg.install-out.txt --library=/Library/Frameworks/R.framework/Resources/library --no-vignettes --timings simpleSeg_1.11.1.tar.gz StartedAt: 2025-07-21 21:32:42 -0400 (Mon, 21 Jul 2025) EndedAt: 2025-07-21 21:35:13 -0400 (Mon, 21 Jul 2025) EllapsedTime: 150.8 seconds RetCode: 0 Status: OK CheckDir: simpleSeg.Rcheck Warnings: 0