Package: simpleSeg Version: 1.11.1 Command: rm -rf simpleSeg.buildbin-libdir && mkdir simpleSeg.buildbin-libdir && /Users/biocbuild/BBS/utils/build-universal.sh simpleSeg_1.11.1.tar.gz /Library/Frameworks/R.framework/Resources/bin/R simpleSeg.buildbin-libdir StartedAt: 2025-07-21 22:41:58 -0400 (Mon, 21 Jul 2025) EndedAt: 2025-07-21 22:42:18 -0400 (Mon, 21 Jul 2025) EllapsedTime: 19.3 seconds RetCode: 0 Status: OK PackageFile: simpleSeg_1.11.1.tgz PackageFileSize: 4.693 MiB