Package: similaRpeak Version: 1.41.0 Command: F:\biocbuild\bbs-3.22-bioc\R\bin\R.exe CMD INSTALL similaRpeak StartedAt: 2025-07-20 15:18:36 -0400 (Sun, 20 Jul 2025) EndedAt: 2025-07-20 15:18:57 -0400 (Sun, 20 Jul 2025) EllapsedTime: 20.9 seconds RetCode: 0 Status: OK