Package: similaRpeak Version: 1.41.0 Command: F:\biocbuild\bbs-3.22-bioc\R\bin\R.exe CMD check --no-multiarch --install=check:similaRpeak.install-out.txt --library=F:\biocbuild\bbs-3.22-bioc\R\library --no-vignettes --timings similaRpeak_1.41.0.tar.gz StartedAt: 2025-07-22 06:48:32 -0400 (Tue, 22 Jul 2025) EndedAt: 2025-07-22 06:49:04 -0400 (Tue, 22 Jul 2025) EllapsedTime: 31.9 seconds RetCode: 0 Status: OK CheckDir: similaRpeak.Rcheck Warnings: 0