Package: similaRpeak Version: 1.41.0 Command: /Library/Frameworks/R.framework/Resources/bin/R CMD build --keep-empty-dirs --no-resave-data similaRpeak StartedAt: 2025-07-20 18:35:25 -0400 (Sun, 20 Jul 2025) EndedAt: 2025-07-20 18:35:55 -0400 (Sun, 20 Jul 2025) EllapsedTime: 29.7 seconds RetCode: 0 Status: OK PackageFile: similaRpeak_1.41.0.tar.gz PackageFileSize: 2.145 MiB