Package: sigsquared Version: 1.41.0 Command: F:\biocbuild\bbs-3.22-bioc\R\bin\R.exe CMD INSTALL sigsquared StartedAt: 2025-07-24 15:50:11 -0400 (Thu, 24 Jul 2025) EndedAt: 2025-07-24 15:50:53 -0400 (Thu, 24 Jul 2025) EllapsedTime: 41.8 seconds RetCode: 0 Status: OK