Package: sigsquared Version: 1.41.0 Command: chmod a+r sigsquared -R && F:\biocbuild\bbs-3.22-bioc\R\bin\R.exe CMD build --keep-empty-dirs --no-resave-data sigsquared StartedAt: 2025-07-24 22:21:59 -0400 (Thu, 24 Jul 2025) EndedAt: 2025-07-24 22:23:19 -0400 (Thu, 24 Jul 2025) EllapsedTime: 79.1 seconds RetCode: 0 Status: OK PackageFile: sigsquared_1.41.0.tar.gz PackageFileSize: 340.5 KiB