Package: signifinder Version: 1.11.0 Command: /home/biocbuild/R/R/bin/R CMD INSTALL signifinder StartedAt: 2025-07-17 21:18:42 -0000 (Thu, 17 Jul 2025) EndedAt: 2025-07-17 21:19:52 -0000 (Thu, 17 Jul 2025) EllapsedTime: 69.9 seconds RetCode: 0 Status: OK