Package: signifinder Version: 1.11.0 Command: /home/biocbuild/R/R/bin/R CMD check --install=check:signifinder.install-out.txt --library=/home/biocbuild/R/R/site-library --no-vignettes --timings signifinder_1.11.0.tar.gz StartedAt: 2025-07-22 11:45:42 -0000 (Tue, 22 Jul 2025) EndedAt: 2025-07-22 12:11:22 -0000 (Tue, 22 Jul 2025) EllapsedTime: 1540.1 seconds RetCode: 0 Status: OK CheckDir: signifinder.Rcheck Warnings: 0