Package: signifinder Version: 1.11.0 Command: F:\biocbuild\bbs-3.22-bioc\R\bin\R.exe CMD INSTALL signifinder StartedAt: 2025-07-24 17:15:34 -0400 (Thu, 24 Jul 2025) EndedAt: 2025-07-24 17:17:35 -0400 (Thu, 24 Jul 2025) EllapsedTime: 121.0 seconds RetCode: 0 Status: OK