Package: signifinder Version: 1.11.0 Command: chmod a+r signifinder -R && F:\biocbuild\bbs-3.22-bioc\R\bin\R.exe CMD build --keep-empty-dirs --no-resave-data signifinder StartedAt: 2025-07-24 22:21:56 -0400 (Thu, 24 Jul 2025) EndedAt: 2025-07-24 22:25:59 -0400 (Thu, 24 Jul 2025) EllapsedTime: 242.8 seconds RetCode: 0 Status: OK PackageFile: signifinder_1.11.0.tar.gz PackageFileSize: 8.072 MiB