Package: signifinder Version: 1.11.0 Command: /home/biocbuild/bbs-3.22-bioc/R/bin/R CMD check --install=check:signifinder.install-out.txt --library=/home/biocbuild/bbs-3.22-bioc/R/site-library --timings signifinder_1.11.0.tar.gz StartedAt: 2025-07-05 02:26:19 -0400 (Sat, 05 Jul 2025) EndedAt: 2025-07-05 02:47:14 -0400 (Sat, 05 Jul 2025) EllapsedTime: 1254.2 seconds RetCode: 0 Status: OK CheckDir: signifinder.Rcheck Warnings: 0