Package: signifinder Version: 1.11.0 Command: /home/biocbuild/bbs-3.22-bioc/R/bin/R CMD build --keep-empty-dirs --no-resave-data --md5 signifinder StartedAt: 2025-07-04 19:09:23 -0400 (Fri, 04 Jul 2025) EndedAt: 2025-07-04 19:12:13 -0400 (Fri, 04 Jul 2025) EllapsedTime: 170.2 seconds RetCode: 0 Status: OK PackageFile: signifinder_1.11.0.tar.gz PackageFileSize: 9.559 MiB