Package: signifinder Version: 1.11.0 Command: /Library/Frameworks/R.framework/Resources/bin/R CMD INSTALL signifinder StartedAt: 2025-07-07 15:47:52 -0400 (Mon, 07 Jul 2025) EndedAt: 2025-07-07 15:49:01 -0400 (Mon, 07 Jul 2025) EllapsedTime: 69.4 seconds RetCode: 0 Status: OK