Package: signifinder Version: 1.11.0 Command: rm -rf signifinder.buildbin-libdir && mkdir signifinder.buildbin-libdir && /Users/biocbuild/BBS/utils/build-universal.sh signifinder_1.11.0.tar.gz /Library/Frameworks/R.framework/Resources/bin/R signifinder.buildbin-libdir StartedAt: 2025-07-08 01:16:35 -0400 (Tue, 08 Jul 2025) EndedAt: 2025-07-08 01:17:54 -0400 (Tue, 08 Jul 2025) EllapsedTime: 78.6 seconds RetCode: 0 Status: OK PackageFile: signifinder_1.11.0.tgz PackageFileSize: 7.486 MiB