Package: signifinder Version: 1.11.0 Command: /Library/Frameworks/R.framework/Resources/bin/R CMD build --keep-empty-dirs --no-resave-data signifinder StartedAt: 2025-07-06 17:33:39 -0400 (Sun, 06 Jul 2025) EndedAt: 2025-07-06 17:34:53 -0400 (Sun, 06 Jul 2025) EllapsedTime: 74.8 seconds RetCode: 0 Status: OK PackageFile: signifinder_1.11.0.tar.gz PackageFileSize: 9.822 MiB