Package: signifinder Version: 1.11.0 Command: rm -rf signifinder.buildbin-libdir && mkdir signifinder.buildbin-libdir && /Users/biocbuild/BBS/utils/build-universal.sh signifinder_1.11.0.tar.gz /Library/Frameworks/R.framework/Resources/bin/R signifinder.buildbin-libdir StartedAt: 2025-07-06 22:34:36 -0400 (Sun, 06 Jul 2025) EndedAt: 2025-07-06 22:35:01 -0400 (Sun, 06 Jul 2025) EllapsedTime: 24.5 seconds RetCode: 0 Status: OK PackageFile: signifinder_1.11.0.tgz PackageFileSize: 7.664 MiB