Package: signeR Version: 2.11.0 Command: /home/biocbuild/R/R/bin/R CMD check --install=check:signeR.install-out.txt --library=/home/biocbuild/R/R/site-library --no-vignettes --timings signeR_2.11.0.tar.gz StartedAt: 2025-07-22 11:45:23 -0000 (Tue, 22 Jul 2025) EndedAt: 2025-07-22 11:55:11 -0000 (Tue, 22 Jul 2025) EllapsedTime: 587.9 seconds RetCode: 0 Status: OK CheckDir: signeR.Rcheck Warnings: 0