Package: signeR Version: 2.11.0 Command: chmod a+r signeR -R && F:\biocbuild\bbs-3.22-bioc\R\bin\R.exe CMD build --keep-empty-dirs --no-resave-data signeR StartedAt: 2025-07-11 22:05:05 -0400 (Fri, 11 Jul 2025) EndedAt: 2025-07-11 22:14:03 -0400 (Fri, 11 Jul 2025) EllapsedTime: 538.2 seconds RetCode: 0 Status: OK PackageFile: signeR_2.11.0.tar.gz PackageFileSize: 2.479 MiB